BEGIN:VCALENDAR
TZID:Europe/Berlin
VERSION:2.0
PRODID:-//hacksw/handcal//NONSGML v1.0//EN
CALSCALE:GREGORIAN
X-WR-TIMEZONE:Europe/Berlin
BEGIN:VEVENT
LOCATION:Mäusberger Straße 13\, Mulfingen\, Deutschland
DESCRIPTION:Familienzeit – Vom Kartoffelacker zum Tornadochips
DTSTART:20241004T140000
DTEND:20241004T160000
SUMMARY:Familienzeit – Vom Kartoffelacker zum Tornadochips
URL;VALUE=URI:
DTSTAMP:20260423T110507
UID:69e9e0c3c033d
END:VEVENT
END:VCALENDAR